BEGIN:VCALENDAR
PRODID:-//Rotary//D1670//FR
VERSION:2.0
BEGIN:VEVENT
CLASS:PUBLIC
CREATED:20240110T190400Z
DESCRIPTION:Pour voir le détail de la réunion : \nhttps://www.rotary1670.org/oukikan?m=8068-a826
LAST-MODIFIED:20240110T190400Z
PRIORITY:5
SEQUENCE:0
SUMMARY:Inscription Accueil de Jour - Ile de Solidarité
TRANSP:OPAQUE
UID:0c69120f-8068-a826-ed43-aac27f6e5424
DTSTAMP:20240110T190400Z
DTSTART:20240117T070000Z
DTEND:20240117T110000Z
BEGIN:VALARM
ACTION:DISPLAY
DESCRIPTION:Reminder
TRIGGER:-PT15M
END:VALARM
END:VEVENT
BEGIN:VTIMEZONE
CATEGORIES:Rotary
LOCATION:LILLE
URL:https://www.rotary1670.org/oukikan?m=8068-a826
END:VEVENT
END:VCALENDAR
